BEGIN:VCALENDAR
VERSION:2.0
PRODID:-//Community of Abbey St Bathans, Bonkyl &amp; Preston - ECPv6.15.8//NONSGML v1.0//EN
CALSCALE:GREGORIAN
METHOD:PUBLISH
X-ORIGINAL-URL:https://coabp.org
X-WR-CALDESC:Events for Community of Abbey St Bathans, Bonkyl &amp; Preston
REFRESH-INTERVAL;VALUE=DURATION:PT1H
X-Robots-Tag:noindex
X-PUBLISHED-TTL:PT1H
BEGIN:VTIMEZONE
TZID:Europe/London
BEGIN:DAYLIGHT
TZOFFSETFROM:+0000
TZOFFSETTO:+0100
TZNAME:BST
DTSTART:20230326T010000
END:DAYLIGHT
BEGIN:STANDARD
TZOFFSETFROM:+0100
TZOFFSETTO:+0000
TZNAME:GMT
DTSTART:20231029T010000
END:STANDARD
BEGIN:DAYLIGHT
TZOFFSETFROM:+0000
TZOFFSETTO:+0100
TZNAME:BST
DTSTART:20240331T010000
END:DAYLIGHT
BEGIN:STANDARD
TZOFFSETFROM:+0100
TZOFFSETTO:+0000
TZNAME:GMT
DTSTART:20241027T010000
END:STANDARD
BEGIN:DAYLIGHT
TZOFFSETFROM:+0000
TZOFFSETTO:+0100
TZNAME:BST
DTSTART:20250330T010000
END:DAYLIGHT
BEGIN:STANDARD
TZOFFSETFROM:+0100
TZOFFSETTO:+0000
TZNAME:GMT
DTSTART:20251026T010000
END:STANDARD
END:VTIMEZONE
BEGIN:VEVENT
DTSTART;TZID=Europe/London:20241001T190000
DTEND;TZID=Europe/London:20241001T213000
DTSTAMP:20260423T235434
CREATED:20240411T203943Z
LAST-MODIFIED:20241129T165725Z
UID:10001777-1727809200-1727818200@coabp.org
SUMMARY:Table Tennis - Abbey St Bathans
DESCRIPTION:Did you know the village hall at Abbey St Bathans hosts table tennis every Tuesday evening at 7pm.\nWhy not come along for a bit of exercise and fun\, you need to have suitable footwear and clothing\, there is small charge payable on the night.
URL:https://coabp.org/event/table-tennis-abbey-st-bathans/2024-10-01/
LOCATION:Abbey St Bathans Village Hall\, Abbey St Bathans Village Hall\, Abbey St Bathans\, TD113TX\, United Kingdom
CATEGORIES:Abbey Village Hall
END:VEVENT
BEGIN:VEVENT
DTSTART;TZID=Europe/London:20241008T190000
DTEND;TZID=Europe/London:20241008T213000
DTSTAMP:20260423T235434
CREATED:20240411T203943Z
LAST-MODIFIED:20241129T165725Z
UID:10001778-1728414000-1728423000@coabp.org
SUMMARY:Table Tennis - Abbey St Bathans
DESCRIPTION:Did you know the village hall at Abbey St Bathans hosts table tennis every Tuesday evening at 7pm.\nWhy not come along for a bit of exercise and fun\, you need to have suitable footwear and clothing\, there is small charge payable on the night.
URL:https://coabp.org/event/table-tennis-abbey-st-bathans/2024-10-08/
LOCATION:Abbey St Bathans Village Hall\, Abbey St Bathans Village Hall\, Abbey St Bathans\, TD113TX\, United Kingdom
CATEGORIES:Abbey Village Hall
END:VEVENT
BEGIN:VEVENT
DTSTART;TZID=Europe/London:20241015T190000
DTEND;TZID=Europe/London:20241015T213000
DTSTAMP:20260423T235434
CREATED:20240411T203943Z
LAST-MODIFIED:20241129T165725Z
UID:10001779-1729018800-1729027800@coabp.org
SUMMARY:Table Tennis - Abbey St Bathans
DESCRIPTION:Did you know the village hall at Abbey St Bathans hosts table tennis every Tuesday evening at 7pm.\nWhy not come along for a bit of exercise and fun\, you need to have suitable footwear and clothing\, there is small charge payable on the night.
URL:https://coabp.org/event/table-tennis-abbey-st-bathans/2024-10-15/
LOCATION:Abbey St Bathans Village Hall\, Abbey St Bathans Village Hall\, Abbey St Bathans\, TD113TX\, United Kingdom
CATEGORIES:Abbey Village Hall
END:VEVENT
BEGIN:VEVENT
DTSTART;TZID=Europe/London:20241022T190000
DTEND;TZID=Europe/London:20241022T213000
DTSTAMP:20260423T235434
CREATED:20240411T203943Z
LAST-MODIFIED:20241129T165725Z
UID:10001780-1729623600-1729632600@coabp.org
SUMMARY:Table Tennis - Abbey St Bathans
DESCRIPTION:Did you know the village hall at Abbey St Bathans hosts table tennis every Tuesday evening at 7pm.\nWhy not come along for a bit of exercise and fun\, you need to have suitable footwear and clothing\, there is small charge payable on the night.
URL:https://coabp.org/event/table-tennis-abbey-st-bathans/2024-10-22/
LOCATION:Abbey St Bathans Village Hall\, Abbey St Bathans Village Hall\, Abbey St Bathans\, TD113TX\, United Kingdom
CATEGORIES:Abbey Village Hall
END:VEVENT
BEGIN:VEVENT
DTSTART;TZID=Europe/London:20241029T190000
DTEND;TZID=Europe/London:20241029T213000
DTSTAMP:20260423T235434
CREATED:20240411T203943Z
LAST-MODIFIED:20241129T165725Z
UID:10001781-1730228400-1730237400@coabp.org
SUMMARY:Table Tennis - Abbey St Bathans
DESCRIPTION:Did you know the village hall at Abbey St Bathans hosts table tennis every Tuesday evening at 7pm.\nWhy not come along for a bit of exercise and fun\, you need to have suitable footwear and clothing\, there is small charge payable on the night.
URL:https://coabp.org/event/table-tennis-abbey-st-bathans/2024-10-29/
LOCATION:Abbey St Bathans Village Hall\, Abbey St Bathans Village Hall\, Abbey St Bathans\, TD113TX\, United Kingdom
CATEGORIES:Abbey Village Hall
END:VEVENT
END:VCALENDAR