BEGIN:VCALENDAR
VERSION:2.0
PRODID:-//Community of Abbey St Bathans, Bonkyl &amp; Preston - ECPv6.15.8//NONSGML v1.0//EN
CALSCALE:GREGORIAN
METHOD:PUBLISH
X-ORIGINAL-URL:https://coabp.org
X-WR-CALDESC:Events for Community of Abbey St Bathans, Bonkyl &amp; Preston
REFRESH-INTERVAL;VALUE=DURATION:PT1H
X-Robots-Tag:noindex
X-PUBLISHED-TTL:PT1H
BEGIN:VTIMEZONE
TZID:Europe/London
BEGIN:DAYLIGHT
TZOFFSETFROM:+0000
TZOFFSETTO:+0100
TZNAME:BST
DTSTART:20240331T010000
END:DAYLIGHT
BEGIN:STANDARD
TZOFFSETFROM:+0100
TZOFFSETTO:+0000
TZNAME:GMT
DTSTART:20241027T010000
END:STANDARD
BEGIN:DAYLIGHT
TZOFFSETFROM:+0000
TZOFFSETTO:+0100
TZNAME:BST
DTSTART:20250330T010000
END:DAYLIGHT
BEGIN:STANDARD
TZOFFSETFROM:+0100
TZOFFSETTO:+0000
TZNAME:GMT
DTSTART:20251026T010000
END:STANDARD
BEGIN:DAYLIGHT
TZOFFSETFROM:+0000
TZOFFSETTO:+0100
TZNAME:BST
DTSTART:20260329T010000
END:DAYLIGHT
BEGIN:STANDARD
TZOFFSETFROM:+0100
TZOFFSETTO:+0000
TZNAME:GMT
DTSTART:20261025T010000
END:STANDARD
END:VTIMEZONE
BEGIN:VEVENT
DTSTART;TZID=Europe/London:20250225T190000
DTEND;TZID=Europe/London:20250225T213000
DTSTAMP:20260423T000238
CREATED:20240411T203943Z
LAST-MODIFIED:20241129T165725Z
UID:10001796-1740510000-1740519000@coabp.org
SUMMARY:Table Tennis - Abbey St Bathans
DESCRIPTION:Did you know the village hall at Abbey St Bathans hosts table tennis every Tuesday evening at 7pm.\nWhy not come along for a bit of exercise and fun\, you need to have suitable footwear and clothing\, there is small charge payable on the night.
URL:https://coabp.org/event/table-tennis-abbey-st-bathans/2025-02-25/
LOCATION:Abbey St Bathans Village Hall\, Abbey St Bathans Village Hall\, Abbey St Bathans\, TD113TX\, United Kingdom
CATEGORIES:Abbey Village Hall
END:VEVENT
BEGIN:VEVENT
DTSTART;TZID=Europe/London:20250304T190000
DTEND;TZID=Europe/London:20250304T213000
DTSTAMP:20260423T000238
CREATED:20240411T203943Z
LAST-MODIFIED:20241129T165725Z
UID:10001797-1741114800-1741123800@coabp.org
SUMMARY:Table Tennis - Abbey St Bathans
DESCRIPTION:Did you know the village hall at Abbey St Bathans hosts table tennis every Tuesday evening at 7pm.\nWhy not come along for a bit of exercise and fun\, you need to have suitable footwear and clothing\, there is small charge payable on the night.
URL:https://coabp.org/event/table-tennis-abbey-st-bathans/2025-03-04/
LOCATION:Abbey St Bathans Village Hall\, Abbey St Bathans Village Hall\, Abbey St Bathans\, TD113TX\, United Kingdom
CATEGORIES:Abbey Village Hall
END:VEVENT
BEGIN:VEVENT
DTSTART;TZID=Europe/London:20250311T190000
DTEND;TZID=Europe/London:20250311T213000
DTSTAMP:20260423T000238
CREATED:20240411T203943Z
LAST-MODIFIED:20241129T165725Z
UID:10001798-1741719600-1741728600@coabp.org
SUMMARY:Table Tennis - Abbey St Bathans
DESCRIPTION:Did you know the village hall at Abbey St Bathans hosts table tennis every Tuesday evening at 7pm.\nWhy not come along for a bit of exercise and fun\, you need to have suitable footwear and clothing\, there is small charge payable on the night.
URL:https://coabp.org/event/table-tennis-abbey-st-bathans/2025-03-11/
LOCATION:Abbey St Bathans Village Hall\, Abbey St Bathans Village Hall\, Abbey St Bathans\, TD113TX\, United Kingdom
CATEGORIES:Abbey Village Hall
END:VEVENT
BEGIN:VEVENT
DTSTART;TZID=Europe/London:20250318T190000
DTEND;TZID=Europe/London:20250318T213000
DTSTAMP:20260423T000238
CREATED:20240411T203943Z
LAST-MODIFIED:20241129T165725Z
UID:10001799-1742324400-1742333400@coabp.org
SUMMARY:Table Tennis - Abbey St Bathans
DESCRIPTION:Did you know the village hall at Abbey St Bathans hosts table tennis every Tuesday evening at 7pm.\nWhy not come along for a bit of exercise and fun\, you need to have suitable footwear and clothing\, there is small charge payable on the night.
URL:https://coabp.org/event/table-tennis-abbey-st-bathans/2025-03-18/
LOCATION:Abbey St Bathans Village Hall\, Abbey St Bathans Village Hall\, Abbey St Bathans\, TD113TX\, United Kingdom
CATEGORIES:Abbey Village Hall
END:VEVENT
BEGIN:VEVENT
DTSTART;TZID=Europe/London:20250325T190000
DTEND;TZID=Europe/London:20250325T213000
DTSTAMP:20260423T000238
CREATED:20240411T203943Z
LAST-MODIFIED:20241129T165725Z
UID:10001800-1742929200-1742938200@coabp.org
SUMMARY:Table Tennis - Abbey St Bathans
DESCRIPTION:Did you know the village hall at Abbey St Bathans hosts table tennis every Tuesday evening at 7pm.\nWhy not come along for a bit of exercise and fun\, you need to have suitable footwear and clothing\, there is small charge payable on the night.
URL:https://coabp.org/event/table-tennis-abbey-st-bathans/2025-03-25/
LOCATION:Abbey St Bathans Village Hall\, Abbey St Bathans Village Hall\, Abbey St Bathans\, TD113TX\, United Kingdom
CATEGORIES:Abbey Village Hall
END:VEVENT
BEGIN:VEVENT
DTSTART;TZID=Europe/London:20250401T190000
DTEND;TZID=Europe/London:20250401T213000
DTSTAMP:20260423T000238
CREATED:20240411T203943Z
LAST-MODIFIED:20241129T165725Z
UID:10001801-1743534000-1743543000@coabp.org
SUMMARY:Table Tennis - Abbey St Bathans
DESCRIPTION:Did you know the village hall at Abbey St Bathans hosts table tennis every Tuesday evening at 7pm.\nWhy not come along for a bit of exercise and fun\, you need to have suitable footwear and clothing\, there is small charge payable on the night.
URL:https://coabp.org/event/table-tennis-abbey-st-bathans/2025-04-01/
LOCATION:Abbey St Bathans Village Hall\, Abbey St Bathans Village Hall\, Abbey St Bathans\, TD113TX\, United Kingdom
CATEGORIES:Abbey Village Hall
END:VEVENT
BEGIN:VEVENT
DTSTART;TZID=Europe/London:20250408T190000
DTEND;TZID=Europe/London:20250408T213000
DTSTAMP:20260423T000238
CREATED:20240411T203943Z
LAST-MODIFIED:20241129T165725Z
UID:10001802-1744138800-1744147800@coabp.org
SUMMARY:Table Tennis - Abbey St Bathans
DESCRIPTION:Did you know the village hall at Abbey St Bathans hosts table tennis every Tuesday evening at 7pm.\nWhy not come along for a bit of exercise and fun\, you need to have suitable footwear and clothing\, there is small charge payable on the night.
URL:https://coabp.org/event/table-tennis-abbey-st-bathans/2025-04-08/
LOCATION:Abbey St Bathans Village Hall\, Abbey St Bathans Village Hall\, Abbey St Bathans\, TD113TX\, United Kingdom
CATEGORIES:Abbey Village Hall
END:VEVENT
BEGIN:VEVENT
DTSTART;TZID=Europe/London:20250415T190000
DTEND;TZID=Europe/London:20250415T213000
DTSTAMP:20260423T000238
CREATED:20240411T203943Z
LAST-MODIFIED:20241129T165725Z
UID:10001803-1744743600-1744752600@coabp.org
SUMMARY:Table Tennis - Abbey St Bathans
DESCRIPTION:Did you know the village hall at Abbey St Bathans hosts table tennis every Tuesday evening at 7pm.\nWhy not come along for a bit of exercise and fun\, you need to have suitable footwear and clothing\, there is small charge payable on the night.
URL:https://coabp.org/event/table-tennis-abbey-st-bathans/2025-04-15/
LOCATION:Abbey St Bathans Village Hall\, Abbey St Bathans Village Hall\, Abbey St Bathans\, TD113TX\, United Kingdom
CATEGORIES:Abbey Village Hall
END:VEVENT
BEGIN:VEVENT
DTSTART;TZID=Europe/London:20250422T190000
DTEND;TZID=Europe/London:20250422T213000
DTSTAMP:20260423T000238
CREATED:20240411T203943Z
LAST-MODIFIED:20241129T165725Z
UID:10001804-1745348400-1745357400@coabp.org
SUMMARY:Table Tennis - Abbey St Bathans
DESCRIPTION:Did you know the village hall at Abbey St Bathans hosts table tennis every Tuesday evening at 7pm.\nWhy not come along for a bit of exercise and fun\, you need to have suitable footwear and clothing\, there is small charge payable on the night.
URL:https://coabp.org/event/table-tennis-abbey-st-bathans/2025-04-22/
LOCATION:Abbey St Bathans Village Hall\, Abbey St Bathans Village Hall\, Abbey St Bathans\, TD113TX\, United Kingdom
CATEGORIES:Abbey Village Hall
END:VEVENT
BEGIN:VEVENT
DTSTART;TZID=Europe/London:20250429T190000
DTEND;TZID=Europe/London:20250429T213000
DTSTAMP:20260423T000238
CREATED:20240411T203943Z
LAST-MODIFIED:20241129T165725Z
UID:10001805-1745953200-1745962200@coabp.org
SUMMARY:Table Tennis - Abbey St Bathans
DESCRIPTION:Did you know the village hall at Abbey St Bathans hosts table tennis every Tuesday evening at 7pm.\nWhy not come along for a bit of exercise and fun\, you need to have suitable footwear and clothing\, there is small charge payable on the night.
URL:https://coabp.org/event/table-tennis-abbey-st-bathans/2025-04-29/
LOCATION:Abbey St Bathans Village Hall\, Abbey St Bathans Village Hall\, Abbey St Bathans\, TD113TX\, United Kingdom
CATEGORIES:Abbey Village Hall
END:VEVENT
BEGIN:VEVENT
DTSTART;TZID=Europe/London:20250506T190000
DTEND;TZID=Europe/London:20250506T213000
DTSTAMP:20260423T000238
CREATED:20240411T203943Z
LAST-MODIFIED:20241129T165725Z
UID:10001806-1746558000-1746567000@coabp.org
SUMMARY:Table Tennis - Abbey St Bathans
DESCRIPTION:Did you know the village hall at Abbey St Bathans hosts table tennis every Tuesday evening at 7pm.\nWhy not come along for a bit of exercise and fun\, you need to have suitable footwear and clothing\, there is small charge payable on the night.
URL:https://coabp.org/event/table-tennis-abbey-st-bathans/2025-05-06/
LOCATION:Abbey St Bathans Village Hall\, Abbey St Bathans Village Hall\, Abbey St Bathans\, TD113TX\, United Kingdom
CATEGORIES:Abbey Village Hall
END:VEVENT
BEGIN:VEVENT
DTSTART;TZID=Europe/London:20250513T190000
DTEND;TZID=Europe/London:20250513T213000
DTSTAMP:20260423T000238
CREATED:20240411T203943Z
LAST-MODIFIED:20241129T165725Z
UID:10001807-1747162800-1747171800@coabp.org
SUMMARY:Table Tennis - Abbey St Bathans
DESCRIPTION:Did you know the village hall at Abbey St Bathans hosts table tennis every Tuesday evening at 7pm.\nWhy not come along for a bit of exercise and fun\, you need to have suitable footwear and clothing\, there is small charge payable on the night.
URL:https://coabp.org/event/table-tennis-abbey-st-bathans/2025-05-13/
LOCATION:Abbey St Bathans Village Hall\, Abbey St Bathans Village Hall\, Abbey St Bathans\, TD113TX\, United Kingdom
CATEGORIES:Abbey Village Hall
END:VEVENT
BEGIN:VEVENT
DTSTART;TZID=Europe/London:20250520T190000
DTEND;TZID=Europe/London:20250520T213000
DTSTAMP:20260423T000238
CREATED:20240411T203943Z
LAST-MODIFIED:20241129T165725Z
UID:10001808-1747767600-1747776600@coabp.org
SUMMARY:Table Tennis - Abbey St Bathans
DESCRIPTION:Did you know the village hall at Abbey St Bathans hosts table tennis every Tuesday evening at 7pm.\nWhy not come along for a bit of exercise and fun\, you need to have suitable footwear and clothing\, there is small charge payable on the night.
URL:https://coabp.org/event/table-tennis-abbey-st-bathans/2025-05-20/
LOCATION:Abbey St Bathans Village Hall\, Abbey St Bathans Village Hall\, Abbey St Bathans\, TD113TX\, United Kingdom
CATEGORIES:Abbey Village Hall
END:VEVENT
BEGIN:VEVENT
DTSTART;TZID=Europe/London:20250527T190000
DTEND;TZID=Europe/London:20250527T213000
DTSTAMP:20260423T000238
CREATED:20240411T203943Z
LAST-MODIFIED:20241129T165725Z
UID:10001809-1748372400-1748381400@coabp.org
SUMMARY:Table Tennis - Abbey St Bathans
DESCRIPTION:Did you know the village hall at Abbey St Bathans hosts table tennis every Tuesday evening at 7pm.\nWhy not come along for a bit of exercise and fun\, you need to have suitable footwear and clothing\, there is small charge payable on the night.
URL:https://coabp.org/event/table-tennis-abbey-st-bathans/2025-05-27/
LOCATION:Abbey St Bathans Village Hall\, Abbey St Bathans Village Hall\, Abbey St Bathans\, TD113TX\, United Kingdom
CATEGORIES:Abbey Village Hall
END:VEVENT
BEGIN:VEVENT
DTSTART;TZID=Europe/London:20250603T190000
DTEND;TZID=Europe/London:20250603T213000
DTSTAMP:20260423T000238
CREATED:20240411T203943Z
LAST-MODIFIED:20241129T165725Z
UID:10001810-1748977200-1748986200@coabp.org
SUMMARY:Table Tennis - Abbey St Bathans
DESCRIPTION:Did you know the village hall at Abbey St Bathans hosts table tennis every Tuesday evening at 7pm.\nWhy not come along for a bit of exercise and fun\, you need to have suitable footwear and clothing\, there is small charge payable on the night.
URL:https://coabp.org/event/table-tennis-abbey-st-bathans/2025-06-03/
LOCATION:Abbey St Bathans Village Hall\, Abbey St Bathans Village Hall\, Abbey St Bathans\, TD113TX\, United Kingdom
CATEGORIES:Abbey Village Hall
END:VEVENT
BEGIN:VEVENT
DTSTART;TZID=Europe/London:20250610T190000
DTEND;TZID=Europe/London:20250610T213000
DTSTAMP:20260423T000238
CREATED:20240411T203943Z
LAST-MODIFIED:20241129T165725Z
UID:10001811-1749582000-1749591000@coabp.org
SUMMARY:Table Tennis - Abbey St Bathans
DESCRIPTION:Did you know the village hall at Abbey St Bathans hosts table tennis every Tuesday evening at 7pm.\nWhy not come along for a bit of exercise and fun\, you need to have suitable footwear and clothing\, there is small charge payable on the night.
URL:https://coabp.org/event/table-tennis-abbey-st-bathans/2025-06-10/
LOCATION:Abbey St Bathans Village Hall\, Abbey St Bathans Village Hall\, Abbey St Bathans\, TD113TX\, United Kingdom
CATEGORIES:Abbey Village Hall
END:VEVENT
BEGIN:VEVENT
DTSTART;TZID=Europe/London:20250617T190000
DTEND;TZID=Europe/London:20250617T213000
DTSTAMP:20260423T000238
CREATED:20240411T203943Z
LAST-MODIFIED:20241129T165725Z
UID:10001812-1750186800-1750195800@coabp.org
SUMMARY:Table Tennis - Abbey St Bathans
DESCRIPTION:Did you know the village hall at Abbey St Bathans hosts table tennis every Tuesday evening at 7pm.\nWhy not come along for a bit of exercise and fun\, you need to have suitable footwear and clothing\, there is small charge payable on the night.
URL:https://coabp.org/event/table-tennis-abbey-st-bathans/2025-06-17/
LOCATION:Abbey St Bathans Village Hall\, Abbey St Bathans Village Hall\, Abbey St Bathans\, TD113TX\, United Kingdom
CATEGORIES:Abbey Village Hall
END:VEVENT
BEGIN:VEVENT
DTSTART;TZID=Europe/London:20250624T190000
DTEND;TZID=Europe/London:20250624T213000
DTSTAMP:20260423T000238
CREATED:20240411T203943Z
LAST-MODIFIED:20241129T165725Z
UID:10001813-1750791600-1750800600@coabp.org
SUMMARY:Table Tennis - Abbey St Bathans
DESCRIPTION:Did you know the village hall at Abbey St Bathans hosts table tennis every Tuesday evening at 7pm.\nWhy not come along for a bit of exercise and fun\, you need to have suitable footwear and clothing\, there is small charge payable on the night.
URL:https://coabp.org/event/table-tennis-abbey-st-bathans/2025-06-24/
LOCATION:Abbey St Bathans Village Hall\, Abbey St Bathans Village Hall\, Abbey St Bathans\, TD113TX\, United Kingdom
CATEGORIES:Abbey Village Hall
END:VEVENT
BEGIN:VEVENT
DTSTART;TZID=Europe/London:20250701T190000
DTEND;TZID=Europe/London:20250701T213000
DTSTAMP:20260423T000238
CREATED:20240411T203943Z
LAST-MODIFIED:20241129T165725Z
UID:10001814-1751396400-1751405400@coabp.org
SUMMARY:Table Tennis - Abbey St Bathans
DESCRIPTION:Did you know the village hall at Abbey St Bathans hosts table tennis every Tuesday evening at 7pm.\nWhy not come along for a bit of exercise and fun\, you need to have suitable footwear and clothing\, there is small charge payable on the night.
URL:https://coabp.org/event/table-tennis-abbey-st-bathans/2025-07-01/
LOCATION:Abbey St Bathans Village Hall\, Abbey St Bathans Village Hall\, Abbey St Bathans\, TD113TX\, United Kingdom
CATEGORIES:Abbey Village Hall
END:VEVENT
BEGIN:VEVENT
DTSTART;TZID=Europe/London:20250708T190000
DTEND;TZID=Europe/London:20250708T213000
DTSTAMP:20260423T000238
CREATED:20240411T203943Z
LAST-MODIFIED:20241129T165725Z
UID:10001815-1752001200-1752010200@coabp.org
SUMMARY:Table Tennis - Abbey St Bathans
DESCRIPTION:Did you know the village hall at Abbey St Bathans hosts table tennis every Tuesday evening at 7pm.\nWhy not come along for a bit of exercise and fun\, you need to have suitable footwear and clothing\, there is small charge payable on the night.
URL:https://coabp.org/event/table-tennis-abbey-st-bathans/2025-07-08/
LOCATION:Abbey St Bathans Village Hall\, Abbey St Bathans Village Hall\, Abbey St Bathans\, TD113TX\, United Kingdom
CATEGORIES:Abbey Village Hall
END:VEVENT
BEGIN:VEVENT
DTSTART;TZID=Europe/London:20250715T190000
DTEND;TZID=Europe/London:20250715T213000
DTSTAMP:20260423T000238
CREATED:20240411T203943Z
LAST-MODIFIED:20241129T165725Z
UID:10001816-1752606000-1752615000@coabp.org
SUMMARY:Table Tennis - Abbey St Bathans
DESCRIPTION:Did you know the village hall at Abbey St Bathans hosts table tennis every Tuesday evening at 7pm.\nWhy not come along for a bit of exercise and fun\, you need to have suitable footwear and clothing\, there is small charge payable on the night.
URL:https://coabp.org/event/table-tennis-abbey-st-bathans/2025-07-15/
LOCATION:Abbey St Bathans Village Hall\, Abbey St Bathans Village Hall\, Abbey St Bathans\, TD113TX\, United Kingdom
CATEGORIES:Abbey Village Hall
END:VEVENT
BEGIN:VEVENT
DTSTART;TZID=Europe/London:20250722T190000
DTEND;TZID=Europe/London:20250722T213000
DTSTAMP:20260423T000238
CREATED:20240411T203943Z
LAST-MODIFIED:20241129T165725Z
UID:10001817-1753210800-1753219800@coabp.org
SUMMARY:Table Tennis - Abbey St Bathans
DESCRIPTION:Did you know the village hall at Abbey St Bathans hosts table tennis every Tuesday evening at 7pm.\nWhy not come along for a bit of exercise and fun\, you need to have suitable footwear and clothing\, there is small charge payable on the night.
URL:https://coabp.org/event/table-tennis-abbey-st-bathans/2025-07-22/
LOCATION:Abbey St Bathans Village Hall\, Abbey St Bathans Village Hall\, Abbey St Bathans\, TD113TX\, United Kingdom
CATEGORIES:Abbey Village Hall
END:VEVENT
BEGIN:VEVENT
DTSTART;TZID=Europe/London:20250729T190000
DTEND;TZID=Europe/London:20250729T213000
DTSTAMP:20260423T000238
CREATED:20240411T203943Z
LAST-MODIFIED:20241129T165725Z
UID:10001818-1753815600-1753824600@coabp.org
SUMMARY:Table Tennis - Abbey St Bathans
DESCRIPTION:Did you know the village hall at Abbey St Bathans hosts table tennis every Tuesday evening at 7pm.\nWhy not come along for a bit of exercise and fun\, you need to have suitable footwear and clothing\, there is small charge payable on the night.
URL:https://coabp.org/event/table-tennis-abbey-st-bathans/2025-07-29/
LOCATION:Abbey St Bathans Village Hall\, Abbey St Bathans Village Hall\, Abbey St Bathans\, TD113TX\, United Kingdom
CATEGORIES:Abbey Village Hall
END:VEVENT
BEGIN:VEVENT
DTSTART;TZID=Europe/London:20250805T190000
DTEND;TZID=Europe/London:20250805T213000
DTSTAMP:20260423T000238
CREATED:20240411T203943Z
LAST-MODIFIED:20241129T165725Z
UID:10001819-1754420400-1754429400@coabp.org
SUMMARY:Table Tennis - Abbey St Bathans
DESCRIPTION:Did you know the village hall at Abbey St Bathans hosts table tennis every Tuesday evening at 7pm.\nWhy not come along for a bit of exercise and fun\, you need to have suitable footwear and clothing\, there is small charge payable on the night.
URL:https://coabp.org/event/table-tennis-abbey-st-bathans/2025-08-05/
LOCATION:Abbey St Bathans Village Hall\, Abbey St Bathans Village Hall\, Abbey St Bathans\, TD113TX\, United Kingdom
CATEGORIES:Abbey Village Hall
END:VEVENT
BEGIN:VEVENT
DTSTART;TZID=Europe/London:20250812T190000
DTEND;TZID=Europe/London:20250812T213000
DTSTAMP:20260423T000238
CREATED:20240411T203943Z
LAST-MODIFIED:20241129T165725Z
UID:10001820-1755025200-1755034200@coabp.org
SUMMARY:Table Tennis - Abbey St Bathans
DESCRIPTION:Did you know the village hall at Abbey St Bathans hosts table tennis every Tuesday evening at 7pm.\nWhy not come along for a bit of exercise and fun\, you need to have suitable footwear and clothing\, there is small charge payable on the night.
URL:https://coabp.org/event/table-tennis-abbey-st-bathans/2025-08-12/
LOCATION:Abbey St Bathans Village Hall\, Abbey St Bathans Village Hall\, Abbey St Bathans\, TD113TX\, United Kingdom
CATEGORIES:Abbey Village Hall
END:VEVENT
BEGIN:VEVENT
DTSTART;TZID=Europe/London:20250819T190000
DTEND;TZID=Europe/London:20250819T213000
DTSTAMP:20260423T000238
CREATED:20240411T203943Z
LAST-MODIFIED:20241129T165725Z
UID:10001821-1755630000-1755639000@coabp.org
SUMMARY:Table Tennis - Abbey St Bathans
DESCRIPTION:Did you know the village hall at Abbey St Bathans hosts table tennis every Tuesday evening at 7pm.\nWhy not come along for a bit of exercise and fun\, you need to have suitable footwear and clothing\, there is small charge payable on the night.
URL:https://coabp.org/event/table-tennis-abbey-st-bathans/2025-08-19/
LOCATION:Abbey St Bathans Village Hall\, Abbey St Bathans Village Hall\, Abbey St Bathans\, TD113TX\, United Kingdom
CATEGORIES:Abbey Village Hall
END:VEVENT
BEGIN:VEVENT
DTSTART;TZID=Europe/London:20250826T190000
DTEND;TZID=Europe/London:20250826T213000
DTSTAMP:20260423T000238
CREATED:20240411T203943Z
LAST-MODIFIED:20241129T165725Z
UID:10001822-1756234800-1756243800@coabp.org
SUMMARY:Table Tennis - Abbey St Bathans
DESCRIPTION:Did you know the village hall at Abbey St Bathans hosts table tennis every Tuesday evening at 7pm.\nWhy not come along for a bit of exercise and fun\, you need to have suitable footwear and clothing\, there is small charge payable on the night.
URL:https://coabp.org/event/table-tennis-abbey-st-bathans/2025-08-26/
LOCATION:Abbey St Bathans Village Hall\, Abbey St Bathans Village Hall\, Abbey St Bathans\, TD113TX\, United Kingdom
CATEGORIES:Abbey Village Hall
END:VEVENT
BEGIN:VEVENT
DTSTART;TZID=Europe/London:20250902T190000
DTEND;TZID=Europe/London:20250902T213000
DTSTAMP:20260423T000238
CREATED:20240411T203943Z
LAST-MODIFIED:20241129T165725Z
UID:10001823-1756839600-1756848600@coabp.org
SUMMARY:Table Tennis - Abbey St Bathans
DESCRIPTION:Did you know the village hall at Abbey St Bathans hosts table tennis every Tuesday evening at 7pm.\nWhy not come along for a bit of exercise and fun\, you need to have suitable footwear and clothing\, there is small charge payable on the night.
URL:https://coabp.org/event/table-tennis-abbey-st-bathans/2025-09-02/
LOCATION:Abbey St Bathans Village Hall\, Abbey St Bathans Village Hall\, Abbey St Bathans\, TD113TX\, United Kingdom
CATEGORIES:Abbey Village Hall
END:VEVENT
BEGIN:VEVENT
DTSTART;TZID=Europe/London:20250909T190000
DTEND;TZID=Europe/London:20250909T213000
DTSTAMP:20260423T000238
CREATED:20240411T203943Z
LAST-MODIFIED:20241129T165725Z
UID:10001824-1757444400-1757453400@coabp.org
SUMMARY:Table Tennis - Abbey St Bathans
DESCRIPTION:Did you know the village hall at Abbey St Bathans hosts table tennis every Tuesday evening at 7pm.\nWhy not come along for a bit of exercise and fun\, you need to have suitable footwear and clothing\, there is small charge payable on the night.
URL:https://coabp.org/event/table-tennis-abbey-st-bathans/2025-09-09/
LOCATION:Abbey St Bathans Village Hall\, Abbey St Bathans Village Hall\, Abbey St Bathans\, TD113TX\, United Kingdom
CATEGORIES:Abbey Village Hall
END:VEVENT
BEGIN:VEVENT
DTSTART;TZID=Europe/London:20250916T190000
DTEND;TZID=Europe/London:20250916T213000
DTSTAMP:20260423T000238
CREATED:20240411T203943Z
LAST-MODIFIED:20241129T165725Z
UID:10001825-1758049200-1758058200@coabp.org
SUMMARY:Table Tennis - Abbey St Bathans
DESCRIPTION:Did you know the village hall at Abbey St Bathans hosts table tennis every Tuesday evening at 7pm.\nWhy not come along for a bit of exercise and fun\, you need to have suitable footwear and clothing\, there is small charge payable on the night.
URL:https://coabp.org/event/table-tennis-abbey-st-bathans/2025-09-16/
LOCATION:Abbey St Bathans Village Hall\, Abbey St Bathans Village Hall\, Abbey St Bathans\, TD113TX\, United Kingdom
CATEGORIES:Abbey Village Hall
END:VEVENT
END:VCALENDAR